BEGIN:VCALENDAR
VERSION:2.0
PRODID:-//CERN//INDICO//EN
BEGIN:VEVENT
SUMMARY:CERN Future Circular Collider: A flagship project for High Energy 
 Physics
DTSTART:20260326T160000Z
DTEND:20260326T170000Z
DTSTAMP:20260420T042500Z
UID:indico-event-5783@agenda.irmp.ucl.ac.be
DESCRIPTION:Speakers: Christophe Grojean (DESY)\n\nProgram: 17:00 IRMP Co
 lloquium talk (CYCL01)18:00 Q&A with the speaker (CYCL01)18:15 Snacks & dr
 inks (Cyclofette)\nAbout the speaker: Christophe Grojean is Lead Scientist
  in the DESY Theory group and Professor of Theoretical Physics at Humboldt
  University in Berlin. Throughout his career\, he has addressed numerous t
 opics in particle physics beyond the Standard Model. He is an expert in th
 e physics and dynamics of the Higgs boson and its possible manifestations 
 depending on the underlying theory. To establish the profile of the Higgs 
 boson\, he works closely with experimentalists. He is also involved in var
 ious working groups dealing with the physics case for the next colliders a
 fter the Large Hadron Collider (LHC).\nAbstract: The Future Circular Colli
 der is profiling itself as the next flagship project at CERN after the LHC
  era. Its ambitious program would be a unique opportunity to fuel the fiel
 d of high-energy physics for several decades to come.  Be it for testing 
 the standard model predictions with unprecedented precision or to search d
 irectly and indirectly for new particles at high and low scales\, this mac
 hine is being designed with versatility and diversity at the heart of its 
 multi-stage program. This presentation will aim at providing a snapshot at
  the current state of affairs upon the completion of the feasibility study
  and the release of the recommendations of the European Strategy for Parti
 cle Physics Update.\n\nhttps://agenda.irmp.ucl.ac.be/event/5783/
LOCATION:CYCL01 (Marc de Hemptinne (chemin du Cyclotron\, 2\, Louvain-la-N
 euve))
URL:https://agenda.irmp.ucl.ac.be/event/5783/
END:VEVENT
END:VCALENDAR
